BEGIN:VCALENDAR
VERSION:2.0
PRODID:JMS Hockey
X-PUBLISHED-TTL:P1W
BEGIN:VEVENT
UID:69e79a32ea787
DTSTART:20150127T032000Z
SEQUENCE:0
TRANSP:OPAQUE
DTEND:20150127T045000Z
URL:http://jmshockey.com/games/7028
LOCATION:Doug Woog Arena (Wakota)
SUMMARY:Lower Level Game at Doug Woog Arena (Wakota)
CLASS:PUBLIC
DTSTAMP:20260421T103930Z
END:VEVENT
END:VCALENDAR