BEGIN:VCALENDAR
VERSION:2.0
PRODID:JMS Hockey
X-PUBLISHED-TTL:P1W
BEGIN:VEVENT
UID:69e7ddc8480dc
DTSTART:20150110T032000Z
SEQUENCE:0
TRANSP:OPAQUE
DTEND:20150110T045000Z
URL:http://jmshockey.com/games/7025
LOCATION:Schwan Superrink
SUMMARY:All level Game at Schwan Superrink
CLASS:PUBLIC
DTSTAMP:20260421T152752Z
END:VEVENT
END:VCALENDAR