BEGIN:VCALENDAR
VERSION:2.0
PRODID:JMS Hockey
X-PUBLISHED-TTL:P1W
BEGIN:VEVENT
UID:69e795bb5bd88
DTSTART:20150131T032000Z
SEQUENCE:0
TRANSP:OPAQUE
DTEND:20150131T045000Z
URL:http://jmshockey.com/games/7023
LOCATION:Schwan Superrink
SUMMARY:All level Game at Schwan Superrink
CLASS:PUBLIC
DTSTAMP:20260421T102027Z
END:VEVENT
END:VCALENDAR