BEGIN:VCALENDAR
VERSION:2.0
PRODID:JMS Hockey
X-PUBLISHED-TTL:P1W
BEGIN:VEVENT
UID:69e799feb0f57
DTSTART:20150110T030000Z
SEQUENCE:0
TRANSP:OPAQUE
DTEND:20150110T043000Z
URL:http://jmshockey.com/games/7016
LOCATION:St Louis Park Rec Center
SUMMARY:Upper Level Game at St Louis Park Rec Center
CLASS:PUBLIC
DTSTAMP:20260421T103838Z
END:VEVENT
END:VCALENDAR