BEGIN:VCALENDAR
VERSION:2.0
PRODID:JMS Hockey
X-PUBLISHED-TTL:P1W
BEGIN:VEVENT
UID:69e7ad734f525
DTSTART:20150109T035000Z
SEQUENCE:0
TRANSP:OPAQUE
DTEND:20150109T052000Z
URL:http://jmshockey.com/games/7006
LOCATION:St Thomas Ice Arena
SUMMARY:All level Game at St Thomas Ice Arena
CLASS:PUBLIC
DTSTAMP:20260421T120139Z
END:VEVENT
END:VCALENDAR