BEGIN:VCALENDAR
VERSION:2.0
PRODID:JMS Hockey
X-PUBLISHED-TTL:P1W
BEGIN:VEVENT
UID:69e7a72528c9a
DTSTART:20150102T035000Z
SEQUENCE:0
TRANSP:OPAQUE
DTEND:20150102T052000Z
URL:http://jmshockey.com/games/7003
LOCATION:St Thomas Ice Arena
SUMMARY:All level Game at St Thomas Ice Arena
CLASS:PUBLIC
DTSTAMP:20260421T113445Z
END:VEVENT
END:VCALENDAR