BEGIN:VCALENDAR
VERSION:2.0
PRODID:JMS Hockey
X-PUBLISHED-TTL:P1W
BEGIN:VEVENT
UID:69e796506e0b3
DTSTART:20150122T023000Z
SEQUENCE:0
TRANSP:OPAQUE
DTEND:20150122T040000Z
URL:http://jmshockey.com/games/6999
LOCATION:Polar Arena
SUMMARY:Lower Level Game at Polar Arena
CLASS:PUBLIC
DTSTAMP:20260421T102256Z
END:VEVENT
END:VCALENDAR