BEGIN:VCALENDAR
VERSION:2.0
PRODID:JMS Hockey
X-PUBLISHED-TTL:P1W
BEGIN:VEVENT
UID:69e79dcd808b2
DTSTART:20150121T031500Z
SEQUENCE:0
TRANSP:OPAQUE
DTEND:20150121T044500Z
URL:http://jmshockey.com/games/6994
LOCATION:Maple Grove
SUMMARY:Intermediate Game at Maple Grove
CLASS:PUBLIC
DTSTAMP:20260421T105453Z
END:VEVENT
END:VCALENDAR