BEGIN:VCALENDAR
VERSION:2.0
PRODID:JMS Hockey
X-PUBLISHED-TTL:P1W
BEGIN:VEVENT
UID:69e7a78c6f935
DTSTART:20150108T033000Z
SEQUENCE:0
TRANSP:OPAQUE
DTEND:20150108T050000Z
URL:http://jmshockey.com/games/6989
LOCATION:Maple Grove
SUMMARY:Upper Level Game at Maple Grove
CLASS:PUBLIC
DTSTAMP:20260421T113628Z
END:VEVENT
END:VCALENDAR