BEGIN:VCALENDAR
VERSION:2.0
PRODID:JMS Hockey
X-PUBLISHED-TTL:P1W
BEGIN:VEVENT
UID:69e7ccf70575b
DTSTART:20150121T031500Z
SEQUENCE:0
TRANSP:OPAQUE
DTEND:20150121T044500Z
URL:http://jmshockey.com/games/6978
LOCATION:Eden Prairie Comm Ctr
SUMMARY:Upper Level Game at Eden Prairie Comm Ctr
CLASS:PUBLIC
DTSTAMP:20260421T141607Z
END:VEVENT
END:VCALENDAR