BEGIN:VCALENDAR
VERSION:2.0
PRODID:JMS Hockey
X-PUBLISHED-TTL:P1W
BEGIN:VEVENT
UID:69e7cae1d07e2
DTSTART:20150109T035500Z
SEQUENCE:0
TRANSP:OPAQUE
DTEND:20150109T052500Z
URL:http://jmshockey.com/games/6971
LOCATION:Woodbury Bielenberg
SUMMARY:Lower Level Game at Woodbury Bielenberg
CLASS:PUBLIC
DTSTAMP:20260421T140713Z
END:VEVENT
END:VCALENDAR