BEGIN:VCALENDAR
VERSION:2.0
PRODID:JMS Hockey
X-PUBLISHED-TTL:P1W
BEGIN:VEVENT
UID:69e7c3b6a9de3
DTSTART:20141127T021500Z
SEQUENCE:0
TRANSP:OPAQUE
DTEND:20141127T034500Z
URL:http://jmshockey.com/games/6958
LOCATION:Augsburg
SUMMARY:Intermediate Game at Augsburg
CLASS:PUBLIC
DTSTAMP:20260421T133638Z
END:VEVENT
END:VCALENDAR