BEGIN:VCALENDAR
VERSION:2.0
PRODID:JMS Hockey
X-PUBLISHED-TTL:P1W
BEGIN:VEVENT
UID:69e7c3ba1bb6e
DTSTART:20141215T040000Z
SEQUENCE:0
TRANSP:OPAQUE
DTEND:20141215T053000Z
URL:http://jmshockey.com/games/6956
LOCATION:Minnehaha Academy
SUMMARY:Intermediate Game at Minnehaha Academy
CLASS:PUBLIC
DTSTAMP:20260421T133642Z
END:VEVENT
END:VCALENDAR