BEGIN:VCALENDAR
VERSION:2.0
PRODID:JMS Hockey
X-PUBLISHED-TTL:P1W
BEGIN:VEVENT
UID:69e7adf0ad454
DTSTART:20141204T033000Z
SEQUENCE:0
TRANSP:OPAQUE
DTEND:20141204T050000Z
URL:http://jmshockey.com/games/6950
LOCATION:Doug Woog Arena (Wakota)
SUMMARY:Level 3 Game at Doug Woog Arena (Wakota)
CLASS:PUBLIC
DTSTAMP:20260421T120344Z
END:VEVENT
END:VCALENDAR