BEGIN:VCALENDAR
VERSION:2.0
PRODID:JMS Hockey
X-PUBLISHED-TTL:P1W
BEGIN:VEVENT
UID:69e7b9e06dada
DTSTART:20150124T033000Z
SEQUENCE:0
TRANSP:OPAQUE
DTEND:20150124T050000Z
URL:http://jmshockey.com/games/6945
LOCATION:Northeast Arena
SUMMARY:Novice Game at Northeast Arena
CLASS:PUBLIC
DTSTAMP:20260421T125440Z
END:VEVENT
END:VCALENDAR