BEGIN:VCALENDAR
VERSION:2.0
PRODID:JMS Hockey
X-PUBLISHED-TTL:P1W
BEGIN:VEVENT
UID:69e7adcf4b815
DTSTART:20141216T024500Z
SEQUENCE:0
TRANSP:OPAQUE
DTEND:20141216T041500Z
URL:http://jmshockey.com/games/6942
LOCATION:Brooklyn Park
SUMMARY:Intermediate Game at Brooklyn Park
CLASS:PUBLIC
DTSTAMP:20260421T120311Z
END:VEVENT
END:VCALENDAR