BEGIN:VCALENDAR
VERSION:2.0
PRODID:JMS Hockey
X-PUBLISHED-TTL:P1W
BEGIN:VEVENT
UID:69e7bfcf7d69d
DTSTART:20141107T033000Z
SEQUENCE:0
TRANSP:OPAQUE
DTEND:20141107T050000Z
URL:http://jmshockey.com/games/6927
LOCATION:Apple Valley Sports Arena
SUMMARY:Elite Game at Apple Valley Sports Arena
CLASS:PUBLIC
DTSTAMP:20260421T131959Z
END:VEVENT
END:VCALENDAR