BEGIN:VCALENDAR
VERSION:2.0
PRODID:JMS Hockey
X-PUBLISHED-TTL:P1W
BEGIN:VEVENT
UID:69e7d5221504a
DTSTART:20141031T023000Z
SEQUENCE:0
TRANSP:OPAQUE
DTEND:20141031T040000Z
URL:http://jmshockey.com/games/6923
LOCATION:Apple Valley Sports Arena
SUMMARY:All level Game at Apple Valley Sports Arena
CLASS:PUBLIC
DTSTAMP:20260421T145058Z
END:VEVENT
END:VCALENDAR