BEGIN:VCALENDAR
VERSION:2.0
PRODID:JMS Hockey
X-PUBLISHED-TTL:P1W
BEGIN:VEVENT
UID:69e7a78841d95
DTSTART:20141124T040000Z
SEQUENCE:0
TRANSP:OPAQUE
DTEND:20141124T053000Z
URL:http://jmshockey.com/games/6916
LOCATION:Minnehaha Academy
SUMMARY:Intermediate Game at Minnehaha Academy
CLASS:PUBLIC
DTSTAMP:20260421T113624Z
END:VEVENT
END:VCALENDAR