BEGIN:VCALENDAR
VERSION:2.0
PRODID:JMS Hockey
X-PUBLISHED-TTL:P1W
BEGIN:VEVENT
UID:69e7ad7b965e7
DTSTART:20141214T033000Z
SEQUENCE:0
TRANSP:OPAQUE
DTEND:20141214T050000Z
URL:http://jmshockey.com/games/6897
LOCATION:St Thomas Ice Arena
SUMMARY:All level Game at St Thomas Ice Arena
CLASS:PUBLIC
DTSTAMP:20260421T120147Z
END:VEVENT
END:VCALENDAR