BEGIN:VCALENDAR
VERSION:2.0
PRODID:JMS Hockey
X-PUBLISHED-TTL:P1W
BEGIN:VEVENT
UID:69e7ad797f384
DTSTART:20141102T030000Z
SEQUENCE:0
TRANSP:OPAQUE
DTEND:20141102T043000Z
URL:http://jmshockey.com/games/6892
LOCATION:St Thomas Ice Arena
SUMMARY:All level Game at St Thomas Ice Arena
CLASS:PUBLIC
DTSTAMP:20260421T120145Z
END:VEVENT
END:VCALENDAR