BEGIN:VCALENDAR
VERSION:2.0
PRODID:JMS Hockey
X-PUBLISHED-TTL:P1W
BEGIN:VEVENT
UID:69e7c34639614
DTSTART:20141107T034000Z
SEQUENCE:0
TRANSP:OPAQUE
DTEND:20141107T051000Z
URL:http://jmshockey.com/games/6885
LOCATION:St Thomas Ice Arena
SUMMARY:All level Game at St Thomas Ice Arena
CLASS:PUBLIC
DTSTAMP:20260421T133446Z
END:VEVENT
END:VCALENDAR