BEGIN:VCALENDAR
VERSION:2.0
PRODID:JMS Hockey
X-PUBLISHED-TTL:P1W
BEGIN:VEVENT
UID:69e7dd264b640
DTSTART:20090707T023000Z
SEQUENCE:0
TRANSP:OPAQUE
DTEND:20090707T040000Z
URL:http://jmshockey.com/games/688
LOCATION:Roseville Skating Center
SUMMARY:Level 3 Game at Roseville Skating Center
CLASS:PUBLIC
DTSTAMP:20260421T152510Z
END:VEVENT
END:VCALENDAR