BEGIN:VCALENDAR
VERSION:2.0
PRODID:JMS Hockey
X-PUBLISHED-TTL:P1W
BEGIN:VEVENT
UID:69e7c347310bb
DTSTART:20141206T034500Z
SEQUENCE:0
TRANSP:OPAQUE
DTEND:20141206T051500Z
URL:http://jmshockey.com/games/6873
LOCATION:St Louis Park Rec Center
SUMMARY:Upper Level Game at St Louis Park Rec Center
CLASS:PUBLIC
DTSTAMP:20260421T133447Z
END:VEVENT
END:VCALENDAR