BEGIN:VCALENDAR
VERSION:2.0
PRODID:JMS Hockey
X-PUBLISHED-TTL:P1W
BEGIN:VEVENT
UID:69e7c12668d83
DTSTART:20141105T034500Z
SEQUENCE:0
TRANSP:OPAQUE
DTEND:20141105T051500Z
URL:http://jmshockey.com/games/6861
LOCATION:St Louis Park Rec Center
SUMMARY:Level 4 Game at St Louis Park Rec Center
CLASS:PUBLIC
DTSTAMP:20260421T132542Z
END:VEVENT
END:VCALENDAR