BEGIN:VCALENDAR
VERSION:2.0
PRODID:JMS Hockey
X-PUBLISHED-TTL:P1W
BEGIN:VEVENT
UID:69e795727d7c1
DTSTART:20141220T031000Z
SEQUENCE:0
TRANSP:OPAQUE
DTEND:20141220T044000Z
URL:http://jmshockey.com/games/6859
LOCATION:Schwan Superrink
SUMMARY:All level Game at Schwan Superrink
CLASS:PUBLIC
DTSTAMP:20260421T101914Z
END:VEVENT
END:VCALENDAR