BEGIN:VCALENDAR
VERSION:2.0
PRODID:JMS Hockey
X-PUBLISHED-TTL:P1W
BEGIN:VEVENT
UID:69e795a688b65
DTSTART:20141206T033000Z
SEQUENCE:0
TRANSP:OPAQUE
DTEND:20141206T050000Z
URL:http://jmshockey.com/games/6857
LOCATION:Schwan Superrink
SUMMARY:All level Game at Schwan Superrink
CLASS:PUBLIC
DTSTAMP:20260421T102006Z
END:VEVENT
END:VCALENDAR