BEGIN:VCALENDAR
VERSION:2.0
PRODID:JMS Hockey
X-PUBLISHED-TTL:P1W
BEGIN:VEVENT
UID:69e7b1022801a
DTSTART:20141115T040000Z
SEQUENCE:0
TRANSP:OPAQUE
DTEND:20141115T053000Z
URL:http://jmshockey.com/games/6854
LOCATION:Schwan Superrink
SUMMARY:All level Game at Schwan Superrink
CLASS:PUBLIC
DTSTAMP:20260421T121650Z
END:VEVENT
END:VCALENDAR