BEGIN:VCALENDAR
VERSION:2.0
PRODID:JMS Hockey
X-PUBLISHED-TTL:P1W
BEGIN:VEVENT
UID:69e7a102eba01
DTSTART:20141108T031000Z
SEQUENCE:0
TRANSP:OPAQUE
DTEND:20141108T044000Z
URL:http://jmshockey.com/games/6853
LOCATION:Schwan Superrink
SUMMARY:All level Game at Schwan Superrink
CLASS:PUBLIC
DTSTAMP:20260421T110834Z
END:VEVENT
END:VCALENDAR