BEGIN:VCALENDAR
VERSION:2.0
PRODID:JMS Hockey
X-PUBLISHED-TTL:P1W
BEGIN:VEVENT
UID:69e7cabc8daa7
DTSTART:20141101T020000Z
SEQUENCE:0
TRANSP:OPAQUE
DTEND:20141101T033000Z
URL:http://jmshockey.com/games/6852
LOCATION:Schwan Superrink
SUMMARY:All level Game at Schwan Superrink
CLASS:PUBLIC
DTSTAMP:20260421T140636Z
END:VEVENT
END:VCALENDAR