BEGIN:VCALENDAR
VERSION:2.0
PRODID:JMS Hockey
X-PUBLISHED-TTL:P1W
BEGIN:VEVENT
UID:69e7adaf953a1
DTSTART:20141227T041500Z
SEQUENCE:0
TRANSP:OPAQUE
DTEND:20141227T054500Z
URL:http://jmshockey.com/games/6850
LOCATION:Roseville Skating Center
SUMMARY:Lower Level Game at Roseville Skating Center
CLASS:PUBLIC
DTSTAMP:20260421T120239Z
END:VEVENT
END:VCALENDAR