BEGIN:VCALENDAR
VERSION:2.0
PRODID:JMS Hockey
X-PUBLISHED-TTL:P1W
BEGIN:VEVENT
UID:69e7974d91321
DTSTART:20141220T034500Z
SEQUENCE:0
TRANSP:OPAQUE
DTEND:20141220T051500Z
URL:http://jmshockey.com/games/6845
LOCATION:Roseville Skating Center
SUMMARY:Lower Level Game at Roseville Skating Center
CLASS:PUBLIC
DTSTAMP:20260421T102709Z
END:VEVENT
END:VCALENDAR