BEGIN:VCALENDAR
VERSION:2.0
PRODID:JMS Hockey
X-PUBLISHED-TTL:P1W
BEGIN:VEVENT
UID:69e79575e7115
DTSTART:20141211T023000Z
SEQUENCE:0
TRANSP:OPAQUE
DTEND:20141211T040000Z
URL:http://jmshockey.com/games/6843
LOCATION:Polar Arena
SUMMARY:Lower Level Game at Polar Arena
CLASS:PUBLIC
DTSTAMP:20260421T101917Z
END:VEVENT
END:VCALENDAR