BEGIN:VCALENDAR
VERSION:2.0
PRODID:JMS Hockey
X-PUBLISHED-TTL:P1W
BEGIN:VEVENT
UID:69e7953ce999f
DTSTART:20141107T021500Z
SEQUENCE:0
TRANSP:OPAQUE
DTEND:20141107T031500Z
URL:http://jmshockey.com/games/6832
LOCATION:Parade Ice Gardens
SUMMARY:All level Game at Parade Ice Gardens
CLASS:PUBLIC
DTSTAMP:20260421T101820Z
END:VEVENT
END:VCALENDAR