BEGIN:VCALENDAR
VERSION:2.0
PRODID:JMS Hockey
X-PUBLISHED-TTL:P1W
BEGIN:VEVENT
UID:69e7d4133a2d8
DTSTART:20090704T000000Z
SEQUENCE:0
TRANSP:OPAQUE
DTEND:20090704T013000Z
URL:http://jmshockey.com/games/683
LOCATION:Bloomington Ice Gardens
SUMMARY:Level 2 Game at Bloomington Ice Gardens
CLASS:PUBLIC
DTSTAMP:20260421T144627Z
END:VEVENT
END:VCALENDAR