BEGIN:VCALENDAR
VERSION:2.0
PRODID:JMS Hockey
X-PUBLISHED-TTL:P1W
BEGIN:VEVENT
UID:69e7a73ec9ce7
DTSTART:20141113T033000Z
SEQUENCE:0
TRANSP:OPAQUE
DTEND:20141113T050000Z
URL:http://jmshockey.com/games/6809
LOCATION:Maple Grove
SUMMARY:Upper Level Game at Maple Grove
CLASS:PUBLIC
DTSTAMP:20260421T113510Z
END:VEVENT
END:VCALENDAR