BEGIN:VCALENDAR
VERSION:2.0
PRODID:JMS Hockey
X-PUBLISHED-TTL:P1W
BEGIN:VEVENT
UID:69e7ca7f4ca11
DTSTART:20141203T031500Z
SEQUENCE:0
TRANSP:OPAQUE
DTEND:20141203T044500Z
URL:http://jmshockey.com/games/6803
LOCATION:Eden Prairie Comm Ctr
SUMMARY:Upper Level Game at Eden Prairie Comm Ctr
CLASS:PUBLIC
DTSTAMP:20260421T140535Z
END:VEVENT
END:VCALENDAR