BEGIN:VCALENDAR
VERSION:2.0
PRODID:JMS Hockey
X-PUBLISHED-TTL:P1W
BEGIN:VEVENT
UID:69e7c35d8ea95
DTSTART:20141220T024500Z
SEQUENCE:0
TRANSP:OPAQUE
DTEND:20141220T041500Z
URL:http://jmshockey.com/games/6797
LOCATION:Eden Prairie Comm Ctr
SUMMARY:Intermediate Game at Eden Prairie Comm Ctr
CLASS:PUBLIC
DTSTAMP:20260421T133509Z
END:VEVENT
END:VCALENDAR