BEGIN:VCALENDAR
VERSION:2.0
PRODID:JMS Hockey
X-PUBLISHED-TTL:P1W
BEGIN:VEVENT
UID:69e7ad7422866
DTSTART:20141212T033000Z
SEQUENCE:0
TRANSP:OPAQUE
DTEND:20141212T050000Z
URL:http://jmshockey.com/games/6790
LOCATION:Apple Valley Sports Arena
SUMMARY:Intermediate Game at Apple Valley Sports Arena
CLASS:PUBLIC
DTSTAMP:20260421T120140Z
END:VEVENT
END:VCALENDAR