BEGIN:VCALENDAR
VERSION:2.0
PRODID:JMS Hockey
X-PUBLISHED-TTL:P1W
BEGIN:VEVENT
UID:69e7cef201677
DTSTART:20141114T033000Z
SEQUENCE:0
TRANSP:OPAQUE
DTEND:20141114T050000Z
URL:http://jmshockey.com/games/6787
LOCATION:Apple Valley Sports Arena
SUMMARY:Upper Level Game at Apple Valley Sports Arena
CLASS:PUBLIC
DTSTAMP:20260421T142434Z
END:VEVENT
END:VCALENDAR