BEGIN:VCALENDAR
VERSION:2.0
PRODID:JMS Hockey
X-PUBLISHED-TTL:P1W
BEGIN:VEVENT
UID:69e7c2ff86c4b
DTSTART:20090703T003000Z
SEQUENCE:0
TRANSP:OPAQUE
DTEND:20090703T020000Z
URL:http://jmshockey.com/games/678
LOCATION:Richfield Ice Arena
SUMMARY:Level 3 Game at Richfield Ice Arena
CLASS:PUBLIC
DTSTAMP:20260421T133335Z
END:VEVENT
END:VCALENDAR