BEGIN:VCALENDAR
VERSION:2.0
PRODID:JMS Hockey
X-PUBLISHED-TTL:P1W
BEGIN:VEVENT
UID:69e7d4dac6a2a
DTSTART:20141030T024000Z
SEQUENCE:0
TRANSP:OPAQUE
DTEND:20141030T041000Z
URL:http://jmshockey.com/games/6769
LOCATION:Doug Woog Arena (Wakota)
SUMMARY:Level 3 Game at Doug Woog Arena (Wakota)
CLASS:PUBLIC
DTSTAMP:20260421T144946Z
END:VEVENT
END:VCALENDAR