BEGIN:VCALENDAR
VERSION:2.0
PRODID:JMS Hockey
X-PUBLISHED-TTL:P1W
BEGIN:VEVENT
UID:69e7ada3c269b
DTSTART:20141029T020000Z
SEQUENCE:0
TRANSP:OPAQUE
DTEND:20141029T033000Z
URL:http://jmshockey.com/games/6764
LOCATION:Maple Grove
SUMMARY:Intermediate Game at Maple Grove
CLASS:PUBLIC
DTSTAMP:20260421T120227Z
END:VEVENT
END:VCALENDAR