BEGIN:VCALENDAR
VERSION:2.0
PRODID:JMS Hockey
X-PUBLISHED-TTL:P1W
BEGIN:VEVENT
UID:69e7b17f3f47c
DTSTART:20141017T030000Z
SEQUENCE:0
TRANSP:OPAQUE
DTEND:20141017T043000Z
URL:http://jmshockey.com/games/6759
LOCATION:Woodbury Bielenberg
SUMMARY:Lower Level Game at Woodbury Bielenberg
CLASS:PUBLIC
DTSTAMP:20260421T121855Z
END:VEVENT
END:VCALENDAR