BEGIN:VCALENDAR
VERSION:2.0
PRODID:JMS Hockey
X-PUBLISHED-TTL:P1W
BEGIN:VEVENT
UID:69e79620b601e
DTSTART:20141107T035500Z
SEQUENCE:0
TRANSP:OPAQUE
DTEND:20141107T052500Z
URL:http://jmshockey.com/games/6758
LOCATION:Woodbury Bielenberg
SUMMARY:Lower Level Game at Woodbury Bielenberg
CLASS:PUBLIC
DTSTAMP:20260421T102208Z
END:VEVENT
END:VCALENDAR