BEGIN:VCALENDAR
VERSION:2.0
PRODID:JMS Hockey
X-PUBLISHED-TTL:P1W
BEGIN:VEVENT
UID:69e7a7a3eb18f
DTSTART:20141020T023000Z
SEQUENCE:0
TRANSP:OPAQUE
DTEND:20141020T040000Z
URL:http://jmshockey.com/games/6757
LOCATION:Rogers Activity Center
SUMMARY:All level Game at Rogers Activity Center
CLASS:PUBLIC
DTSTAMP:20260421T113651Z
END:VEVENT
END:VCALENDAR