BEGIN:VCALENDAR
VERSION:2.0
PRODID:JMS Hockey
X-PUBLISHED-TTL:P1W
BEGIN:VEVENT
UID:69e7f02b1f46f
DTSTART:20141020T030000Z
SEQUENCE:0
TRANSP:OPAQUE
DTEND:20141020T043000Z
URL:http://jmshockey.com/games/6750
LOCATION:Minnehaha Academy
SUMMARY:Elite Game at Minnehaha Academy
CLASS:PUBLIC
DTSTAMP:20260421T164619Z
END:VEVENT
END:VCALENDAR