BEGIN:VCALENDAR
VERSION:2.0
PRODID:JMS Hockey
X-PUBLISHED-TTL:P1W
BEGIN:VEVENT
UID:69e799fd01344
DTSTART:20141020T030000Z
SEQUENCE:0
TRANSP:OPAQUE
DTEND:20141020T043000Z
URL:http://jmshockey.com/games/6748
LOCATION:Minnehaha Academy
SUMMARY:Intermediate Game at Minnehaha Academy
CLASS:PUBLIC
DTSTAMP:20260421T103837Z
END:VEVENT
END:VCALENDAR