BEGIN:VCALENDAR
VERSION:2.0
PRODID:JMS Hockey
X-PUBLISHED-TTL:P1W
BEGIN:VEVENT
UID:69e7a74241024
DTSTART:20141025T015000Z
SEQUENCE:0
TRANSP:OPAQUE
DTEND:20141025T032000Z
URL:http://jmshockey.com/games/6741
LOCATION:Schwan Superrink
SUMMARY:All level Game at Schwan Superrink
CLASS:PUBLIC
DTSTAMP:20260421T113514Z
END:VEVENT
END:VCALENDAR