BEGIN:VCALENDAR
VERSION:2.0
PRODID:JMS Hockey
X-PUBLISHED-TTL:P1W
BEGIN:VEVENT
UID:69e7c368add6c
DTSTART:20141018T021000Z
SEQUENCE:0
TRANSP:OPAQUE
DTEND:20141018T034000Z
URL:http://jmshockey.com/games/6740
LOCATION:Schwan Superrink
SUMMARY:All level Game at Schwan Superrink
CLASS:PUBLIC
DTSTAMP:20260421T133520Z
END:VEVENT
END:VCALENDAR